BEGIN:VCALENDAR
VERSION:2.0
PRODID:-//hacksw/handcal//NONSGML v1.0//EN
CALSCALE:GREGORIAN
BEGIN:VEVENT
DTEND:20191107T214500Z
UID: 69eadfafe1069
DTSTAMP:20260423T221247Z
LOCATION:Hanson Hall of Science
DESCRIPTION:Seniors and juniors are invited to learn about the BA/BSN dual-degree program with Trinity College of Nursing &amp\; Health Sciences\, classes to take\, and about applying to nursing schools generally. Dr. Dara L. Wegman-Geedey will answer questions.\n
URL;VALUE=URI:https://augustana.edu/about-us/events/2019/nursing-school-info-session
SUMMARY:Nursing dual degree info session
DTSTART:20191107T214500Z
END:VEVENT
END:VCALENDAR
