BEGIN:VCALENDAR
VERSION:2.0
PRODID:-//hacksw/handcal//NONSGML v1.0//EN
CALSCALE:GREGORIAN
BEGIN:VEVENT
DTEND:20170411T230000Z
UID: 69eadf6563efe
DTSTAMP:20260423T221133Z
LOCATION:Olin Center for Educational Technology
DESCRIPTION:Learning Commons tutor leaders will offer a workshop on learning styles\, or "Metacognition at Its Finest."\n\nLearn how to target learning styles while in class and while studying. &nbsp\;Peer tutors will help you identify what suits you best and offer some strategies tailored to your needs.\n
URL;VALUE=URI:https://augustana.edu/about-us/events/2017/workshop-metacognition-its-finest
SUMMARY:Workshop: Metacognition at Its Finest
DTSTART:20170411T230000Z
END:VEVENT
END:VCALENDAR
