BEGIN:VCALENDAR
VERSION:2.0
PRODID:-//hacksw/handcal//NONSGML v1.0//EN
CALSCALE:GREGORIAN
BEGIN:VEVENT
DTEND:20170408T210000Z
UID: 69eadfc496289
DTSTAMP:20260423T221308Z
LOCATION:Denkmann Memorial Building
DESCRIPTION:Paige Phelps\, a senior from Sycamore\, IL\, will be performing a cello recital. She is majoring in communication studies.&nbsp\;\n
URL;VALUE=URI:https://augustana.edu/about-us/events/2017/student-recital-paige-phelps-cello
SUMMARY:Student Recital: Paige Phelps\, cello
DTSTART:20170408T210000Z
END:VEVENT
END:VCALENDAR
