BEGIN:VCALENDAR
VERSION:2.0
PRODID:-//hacksw/handcal//NONSGML v1.0//EN
CALSCALE:GREGORIAN
BEGIN:VEVENT
DTEND:20170408T170000Z
UID: 69eae00eb6688
DTSTAMP:20260423T221422Z
LOCATION:Lower Quad
DESCRIPTION:The Black Student Union and Alpha Phi Omega will host&nbsp\;an Easter event\, Scrambling for Eggs\, that will include an egg hunt\, free food\, free raffles&nbsp\;and a chance to meet people from the Quad Cities community.&nbsp\;\n\nRain location is Carver PE Center.\n
URL;VALUE=URI:https://augustana.edu/about-us/events/2017/scrambling-eggs
SUMMARY:Scrambling for Eggs
DTSTART:20170408T170000Z
END:VEVENT
END:VCALENDAR
