BEGIN:VCALENDAR
VERSION:2.0
PRODID:-//hacksw/handcal//NONSGML v1.0//EN
CALSCALE:GREGORIAN
BEGIN:VEVENT
DTEND:20170411T213000Z
UID: 69e76cd5552e6
DTSTAMP:20260421T072557Z
LOCATION:The Gerber Center for Student Life
DESCRIPTION:The Global Engagement Team will be holding an informational meeting for interested students.&nbsp\;\n\nInformation about the group will be given\, as well as information about&nbsp\;open&nbsp\;positions in&nbsp\;marketing\, event planning\,&nbsp\;finances\, &amp\;&nbsp\;educational programming.&nbsp\;\n\n&nbsp\;\n
URL;VALUE=URI:https://augustana.edu/about-us/events/2017/global-engagement-team-informational-meeting
SUMMARY:Global Engagement Team Informational Meeting
DTSTART:20170411T213000Z
END:VEVENT
END:VCALENDAR
