BEGIN:VCALENDAR
VERSION:2.0
PRODID:-//hacksw/handcal//NONSGML v1.0//EN
CALSCALE:GREGORIAN
BEGIN:VEVENT
DTEND:20220316T210000Z
UID: 69e7595274435
DTSTAMP:20260421T060242Z
LOCATION:Lower Quad
DESCRIPTION:The Holi Festival is a festival of color celebrated by the Hindu tradition. It marks the arrival of spring\, which also indicates fertility\, love and good over evil. Although it is celebrated all around the world\, it is mostly observed in India and Nepal.\n\n&nbsp\;\n
URL;VALUE=URI:https://augustana.edu/about-us/events/2022/holi-festival
SUMMARY:Holi Festival
DTSTART:20220316T210000Z
END:VEVENT
END:VCALENDAR
