BEGIN:VCALENDAR
VERSION:2.0
PRODID:-//hacksw/handcal//NONSGML v1.0//EN
CALSCALE:GREGORIAN
BEGIN:VEVENT
DTEND:20171014T003000Z
UID: 69e8e9aab9d94
DTSTAMP:20260422T103050Z
LOCATION:Brunner Theatre Center
DESCRIPTION:In "The Madwoman of Chaillot\," an eccentric woman in Paris and her allies struggle against evil men who seek only wealth and power. The play by French dramatist Jean Giraudoux was written in 1943 and first performed in 1945.\n\nThe play is set in the Chaillot district of Paris\, where Countess Aurelia\, the harmless "madwoman" sees the world as happy and beautiful until learning about plans to ruin Paris to drill for oil. She gets the help of her fellow outcasts and madwomen in her fight.\n\nThe New York Drama Critics' Circle hailed an early production as "pure gold\, with no base metal" and having "an enveloping and irresistible humor."\n\nPerformances will be at 7:30 p.m.&nbsp\;on&nbsp\;Oct. 13\, 14\, 20\, 21\; and at 1:30 p.m. on Oct. 15\, 22.\n
URL;VALUE=URI:https://augustana.edu/about-us/events/2017/madwoman-chaillot-0
SUMMARY:The Madwoman of Chaillot
DTSTART:20171014T003000Z
END:VEVENT
END:VCALENDAR
