BEGIN:VCALENDAR
VERSION:2.0
PRODID:-//hacksw/handcal//NONSGML v1.0//EN
CALSCALE:GREGORIAN
BEGIN:VEVENT
DTEND:20170626T133000Z
UID: 69e8e9df02a0a
DTSTAMP:20260422T103143Z
LOCATION:The Gerber Center for Student Life
DESCRIPTION:Prospective students are invited to Summer Visit Days.&nbsp\;Learn about applying\, scholarships and financial aid. Hear about majors and internships and find out about arts and athletics.\n\nOther Summer Visit Days are June 20\; July 11\, 17 and 31\; and Aug. 7\, 10. Sign up!\n\nSchedule\n\n8:30-9:30 a.m. —&nbsp\;Early Bird admissions interviews (optional)\n9:30-10 a.m. —&nbsp\;Check-in and Opportunities Fair at The Gerber Center for Student Life\n10-10:30&nbsp\;a.m.&nbsp\;—&nbsp\;Welcome address\, admissions and financial aid overview&nbsp\;\n10:30-11:45 a.m. —&nbsp\;Admissions interviews (optional) and campus tours\n11:45 a.m.-12:45 p.m. —&nbsp\;Lunch&nbsp\;\n1-1:30 p.m. —&nbsp\;Academic sessions\n1:45-2 p.m. —&nbsp\;Closing remarks\n2-3:30 p.m. &nbsp\;—&nbsp\;Admissions interviews (optional)\, campus tours and wrap-up\n\nAcademic sessions:&nbsp\;Students will have the opportunity to learn in detail about their academic area of interests. You will be assigned an academic session when you register for a visit day.\n\nAdmissions interview:&nbsp\;High school seniors and transfer students are encouraged to&nbsp\;interview. It's your chance to tell us your story in your own words. It's not a requirement\, but we may use what we learn from you when considering your application for admission.&nbsp\;\n
URL;VALUE=URI:https://augustana.edu/about-us/events/2017/summer-visit-day-0
SUMMARY:Summer Visit Day
DTSTART:20170626T133000Z
END:VEVENT
END:VCALENDAR
