BEGIN:VCALENDAR
VERSION:2.0
PRODID:-//hacksw/handcal//NONSGML v1.0//EN
CALSCALE:GREGORIAN
BEGIN:VEVENT
DTEND:20171025T003000Z
UID: 69eba5d831358
DTSTAMP:20260424T121816Z
LOCATION:Wallenberg Hall
DESCRIPTION:Monetary awards are presented annually to voice students in pursuit of a vocal career. Faculty judges select winners in two divisions at this award recital.\n\nThe Steven Boone Webster Vocal Performance Award was established in 1998 by Steven's parents\, Earl and Leila Anseen Webster\, his sister Silvia Anseen Webster\, and many friends. Mrs. Webster's parents\, the Rev. Nils Peter and Mrs. Augusta Sundberg Anseen\, were a strong influence on Steven Webster.\n\nRev. Anseen was an 1897 graduate of Augustana\, and graduated from the seminary in 1902. Mrs. Anseen was talented in both voice and organ and served the Augustana Lutheran Church in several administrative capacities.\n
URL;VALUE=URI:https://augustana.edu/about-us/events/2017/webster-competition
SUMMARY:Webster Competition 
DTSTART:20171025T003000Z
END:VEVENT
END:VCALENDAR
