BEGIN:VCALENDAR
VERSION:2.0
PRODID:-//hacksw/handcal//NONSGML v1.0//EN
CALSCALE:GREGORIAN
BEGIN:VEVENT
DTEND:20171010T154500Z
UID: 69e94b7b4f6ea
DTSTAMP:20260422T172811Z
LOCATION:Denkmann Memorial Building
DESCRIPTION:
URL;VALUE=URI:https://augustana.edu/about-us/events/2017/voice-seminar-0
SUMMARY:Voice Seminar
DTSTART:20171010T154500Z
END:VEVENT
END:VCALENDAR
