BEGIN:VCALENDAR
VERSION:2.0
PRODID:-//hacksw/handcal//NONSGML v1.0//EN
CALSCALE:GREGORIAN
BEGIN:VEVENT
DTEND:20171128T164500Z
UID: 69e5ffb86a00a
DTSTAMP:20260420T052808Z
LOCATION:Denkmann Memorial Building
DESCRIPTION:
URL;VALUE=URI:https://augustana.edu/about-us/events/2017/voice-seminarrecital
SUMMARY:Voice Seminar/Recital
DTSTART:20171128T164500Z
END:VEVENT
END:VCALENDAR
