BEGIN:VCALENDAR
VERSION:2.0
PRODID:-//hacksw/handcal//NONSGML v1.0//EN
CALSCALE:GREGORIAN
BEGIN:VEVENT
DTEND:20180123T164500Z
UID: 69e5fea957c5b
DTSTAMP:20260420T052337Z
LOCATION:Centennial Hall
DESCRIPTION:Three Augustana music students will perform in recital. They are Sean Harty\, a senior from Plainfield\, Ill.\, majoring in music and psychology\; Rebekah Gohl\, a senior from Belleville\, Ill.\,&nbsp\;majoring in music and psychology\;&nbsp\;and Caitlin Thom\, a senior from Bettendorf\, Iowa\, majoring in composition and instrumental performance.\n\nProgram\n\n\n	\n		\n			\n			Fanfare \n\n			Sean Harty\, organ\n			\n			&nbsp\;\n			Jacques Lemmens (1823-1881)\n		\n		\n			\n			Praeludium in C\, BuxWV 137 \n\n			Rebekah Gohl\, organ\n			\n			&nbsp\;\n			Dietrich Buxtehude (1637-1707)\n		\n		\n			\n			Scintillantion \n\n			Caitlin Thom\, harp\n			\n			&nbsp\;\n			Carlos Salzedo (1885-1961)\n		\n		\n			\n			French Suite for Solo Percussion\n			&nbsp\;&nbsp\;3. Saraband\n			&nbsp\;&nbsp\;4. Gigue\n\n			Sean Harty\, percussion\n			\n			&nbsp\;\n			William Kraft (b. 1923)\n		\n	\n\n
URL;VALUE=URI:https://augustana.edu/about-us/events/2017/student-instrumental-recital
SUMMARY:Student instrumental recital
DTSTART:20180123T164500Z
END:VEVENT
END:VCALENDAR
