BEGIN:VCALENDAR
VERSION:2.0
PRODID:-//hacksw/handcal//NONSGML v1.0//EN
CALSCALE:GREGORIAN
BEGIN:VEVENT
DTEND:20180131T013000Z
UID: 69e61036e4019
DTSTAMP:20260420T063830Z
LOCATION:Denkmann Memorial Building
DESCRIPTION:Augustana voice and instrumental students will perform. They include:\n\nChelsea Crumbleholme\, a senior from Moline\, Ill.\, majoring in communication sciences and disorders.\n\nAnne Bak\, a first-year student from Peoria\, Ill.\n\nGrayson Dixon\, a junior from Bailey\, Colo.\, majoring in instrumental music education.\n\nAllessandra West\, a sophomore from Geneva\, Ill.\, majoring in instrumental music education.\n\nGrace O'Shea\, a sophomore from Springfield\, Ill.\, majoring in neuroscience and biology.\n\nAshley Ramirez\, a senior from Bloomington\, Ill.\, majoring in instrumental music education.\n\nNicole Romano\, a senior from Park Ridge\, Ill.\, majoring in accounting and business.\n\nGrant Estes\, a first-year student from Moline\, Ill.\n\nJenna Dolan\, a junior from Barrington\, Ill.\, majoring in elementary education.\n\nAbigail Smith\, a senior majoring in music from Peru\, Ill.\n\nSarah Lisak\, a sophomore majoring in environmental studies and biology from Frankfort\, Ill.\n\nEric Tabaka\, a junior majoring in instrumental music education from Monroe\, Wis.\n\nProgram\n\n\n	\n		\n			\n			In His Eyes from "Jekyll and Hyde"\n\n			Chelsea Crumbleholme\, soprano\n			Charles Schmidt\, piano\n			\n			&nbsp\;\n			Words Leslie Bricusse b. 1931\n			Music Frank Wildhorn b. 1959\n		\n		\n			\n			Vocalise Op. 34\, No. 14 \n\n			Anne Bak\, cello\n			Grayson Dixon\, piano\n			\n			&nbsp\;\n			Sergei Rachmaninoff (1873-1943)\n		\n		\n			\n			Five Madrigal Stanzas \n			I. Moderato\n			IV. Scherzando\, poco allegro\n\n			Allessandra West\, violin\n			Sheila Doak\, piano\n			\n			&nbsp\;\n			Bohuslav Martinu (1890-1959)\n		\n		\n			\n			Undine Sonata\, Op. 167\n			I. Allegro\n\n			Grace O’Shea\, flute\n			Charles Schmidt\, piano\n			\n			&nbsp\;\n			Carl Reinecke (1824-1910)\n		\n		\n			\n			Tonadilla No. 2 \n			II. Andantino\n\n			Ashley Ramirez\, cello\n			Robert Elfline\, piano\n			\n			&nbsp\;\n			Enrique Granados (1867-1916)\n		\n		\n			\n			First Sonata \n			Allegro Moderato\n\n			Nicole Romano\, flute\n			Charles Schmidt\, piano\n			\n			&nbsp\;\n			Bohuslav Martinu (1890-1959)\n		\n		\n			\n			Visions Fugitives\, Op. 22 \n			I. Lentamente\n			V. Molto giocoso\n			X. Ridicolosamente\n\n			Grant Estes\, piano\n			\n			&nbsp\;\n			(Sergei Prokofiev 1891-1953)\n		\n		\n			\n			Piece Symphonique en Trois Episodes\n\n			Jenna Dolan\, harp\n			\n			&nbsp\;\n			Henriette Renié (1875-1956)\n		\n		\n			\n			Andante et Allegro\n\n			Eric Tabaka\, trombone\n			Sheila Doak\, piano\n			\n			&nbsp\;\n			Joseph Edward Barat (1882-1963)\n		\n	\n	\n		\n			\n			Concerto in D minor for Flute and Piano\, Op. 69 \n			I. Allegro\n\n			Sarah Lisak\, flute\n			Gail Baldwin\, piano\n			\n			&nbsp\;\n			Bernhard Molique (1802-1869)\n		\n		\n			\n			Violin Sonata No. 8\, Op. 30 No. 3 \n			I. Allegro assai\n\n			Abigail Smith\, violin\n			Sheila Doak\, piano\n			\n			&nbsp\;\n			Ludwig van Beethoven (1770-1827)\n		\n	\n\n
URL;VALUE=URI:https://augustana.edu/about-us/events/2017/student-recital-2
SUMMARY:Student Recital
DTSTART:20180131T013000Z
END:VEVENT
END:VCALENDAR
