BEGIN:VCALENDAR
VERSION:2.0
PRODID:-//hacksw/handcal//NONSGML v1.0//EN
CALSCALE:GREGORIAN
BEGIN:VEVENT
DTEND:20180206T163000Z
UID: 69e5ff97cda5c
DTSTAMP:20260420T052735Z
LOCATION:Denkmann Memorial Building
DESCRIPTION:
URL;VALUE=URI:https://augustana.edu/about-us/events/2017/voice-seminar-1
SUMMARY:Voice Seminar
DTSTART:20180206T163000Z
END:VEVENT
END:VCALENDAR
