BEGIN:VCALENDAR
VERSION:2.0
PRODID:-//hacksw/handcal//NONSGML v1.0//EN
CALSCALE:GREGORIAN
BEGIN:VEVENT
DTEND:20180327T154500Z
UID: 69e603f23335d
DTSTAMP:20260420T054610Z
LOCATION:
DESCRIPTION:This student recital will feature Gabriel Lance\, viola\; Kendall Hengst and Evan Sammons\, tenor saxophone\;&nbsp\; and Kate Pisarczyk\, alto saxophone.\n\nLance is a senior from Davenport\, Iowa\, majoring in mathematics.\n\nHengst is a junior from Bettendorf\, Iowa\, majoring in instrumental music education.\n\nSammons is a junior from Geneseo\, Ill.\, majoring in music.\n\nPisarczyk is a senior from Spring Valley\, Ill.\, majoring in music and psychology.\n\nProgram\n\n\n	\n		\n			\n			Concerto in D Major\, Op. 1\n			I Allegro \n			\n			Gabriel Lance\, viola\n			Sheila Doak\, piano\n			\n			&nbsp\;\n			Carl Stamitz (1745-1801)\n		\n		\n			\n			Suite No. 1 for Cello\n			I Allemande\n			II Courante arr. Jean-Marie Londeix\n			IV Gigue\n\n			Kendall Hengst\, tenor saxophone\n			\n			&nbsp\;\n			Johann Sebastian Bach (1685-1750)\n		\n		\n			\n			Gyn \n\n			Evan Sammons\, tenor saxophone\n			\n			&nbsp\;\n			Christian Lauba (b. 1952)\n		\n		\n			\n			Le Frêne Égaré \n\n			Kate Pisarczyk\, alto saxophone\n			\n			&nbsp\;\n			François Rossé (b. 1945)\n		\n	\n\n
URL;VALUE=URI:https://augustana.edu/about-us/events/2017/student-recital-viola-and-saxophone
SUMMARY:Student Recital: viola and saxophone
DTSTART:20180327T154500Z
END:VEVENT
END:VCALENDAR
