BEGIN:VCALENDAR
VERSION:2.0
PRODID:-//hacksw/handcal//NONSGML v1.0//EN
CALSCALE:GREGORIAN
BEGIN:VEVENT
DTEND:20180410T154500Z
UID: 69e5fede9df5d
DTSTAMP:20260420T052430Z
LOCATION:Denkmann Memorial Building
DESCRIPTION:Program\n\n\n	\n		\n			\n			What Good Would the Moon Be? from Street Scene\n\n			Ally Anstead\, soprano\n			Sheila Doak\, piano\n			\n			&nbsp\;\n			Kurt Weill (1900-1950)\n		\n		\n			\n			See I’m Smiling from The Last Five Years \n\n			Emily Keiner\, mezzo soprano\n			Sheila Doak\, piano\n			\n			&nbsp\;\n			Jason Robert Brown (b. 1985)\n		\n		\n			\n			Requiem from Dear Evan Hansen \n\n			Olivia Weismann\, soprano\n			Sheila Doak\, piano\n			\n			&nbsp\;\n			Benj Pasek (b. 1958)\,\n			Justin Paul (b. 1985)\n		\n		\n			\n			Quel guardo il cavaliere from Don Pasquale\n\n			Chelsea Crumbleholme\, soprano\n			Charlie Schmidt\, piano\n			\n			&nbsp\;\n			Gaetano Donizetti (1797-1848)\n		\n		\n			\n			Asturiana\n\n			Liam Baldwin\, baritone\n			Gail Baldwin\, piano\n			\n			&nbsp\;\n			Manuel de Falla (1876-1946)\n		\n		\n			\n			When I am Laid in Earth from Dido and Aeneas \n\n			Amy Croft\, mezzo soprano\n			Sheila Doak\, piano\n			\n			&nbsp\;\n			Henry Purcell (1659-1695)\n		\n	\n\n
URL;VALUE=URI:https://augustana.edu/about-us/events/2017/voice-seminar-2
SUMMARY:Voice Seminar
DTSTART:20180410T154500Z
END:VEVENT
END:VCALENDAR
