BEGIN:VCALENDAR
VERSION:2.0
PRODID:-//hacksw/handcal//NONSGML v1.0//EN
CALSCALE:GREGORIAN
BEGIN:VEVENT
DTEND:20180501T154500Z
UID: 69e60078c203e
DTSTAMP:20260420T053120Z
LOCATION:Denkmann Memorial Building
DESCRIPTION:Students participating in the Voice Seminar include Siena Oliveri\, Cheyenne Powell\, Dana Burhorn and Olivia Weismann\, sopranos\; Elliott Peterson\, bass\; Jared Pector and Trevor Lewandowski\, tenors\; and Zoë Haenisch\, Amber Mraz and Cami Myers\, mezzo sopranos.\n\nProgram\n\nVa’ godendo from Serse George&nbsp\; &nbsp\; Frideric Handel (1685-1759)\nSiena Oliveri\, soprano\nSheila Doak\, piano\n\nChe fiero costume&nbsp\; &nbsp\; Giovanni Legrenzi (1626-1690)\nElliott Peterson\, bass\nCharles Schmidt\, piano\n\nVon Ewiger Liebe&nbsp\; &nbsp\; Johannes Brahms (1833-1897)\nJared Pector\, tenor\nSheila Doak\, piano\n\nCome l’allodolettta&nbsp\; &nbsp\; Stefano Donaudy (1879-1925)\nCheyenne Powell\, soprano\nSheila Doak\, piano\n\nMy Life’s Delight&nbsp\; &nbsp\; Roger Quilter (1877-1953)\nTrevor Lewandowski\, tenor\nSheila Doak\, piano\n\nHome&nbsp\;from Beauty and the Beast&nbsp\; &nbsp\; Alan Menken (b. 1949)\nZoë Haenisch\, mezzo soprano\nMichelle Crouch\, piano\n\nCalm from Ordinary Days&nbsp\; &nbsp\; Adam Gwon\nAmber Mraz\, mezzo soprano\nSheila Doak\, piano\n\nShe Used to Be Mine from Waitress: The Musical&nbsp\; &nbsp\; Sara Bareilles (b. 1979)\nDana Burhorn\, soprano\nMichelle Crouch\, piano\n\nWith Him from Love me Love me not&nbsp\; &nbsp\; Joey Contreras (b. 1990)\nCami Myers\, mezzo soprano\nSheila Doak\, piano\n\nStone Cold&nbsp\; &nbsp\; Demi Lovato (b. 1992)\nOlivia Weismann\, soprano\nSheila Doak\, piano\n
URL;VALUE=URI:https://augustana.edu/about-us/events/2017/voice-seminar-3
SUMMARY:Voice Seminar
DTSTART:20180501T154500Z
END:VEVENT
END:VCALENDAR
