BEGIN:VCALENDAR
VERSION:2.0
PRODID:-//hacksw/handcal//NONSGML v1.0//EN
CALSCALE:GREGORIAN
BEGIN:VEVENT
DTEND:20180509T003000Z
UID: 69e5ff6fdee09
DTSTAMP:20260420T052655Z
LOCATION:Denkmann Memorial Building
DESCRIPTION:Students will perform on trombone\, piano\, double bass\, violin\, flute and saxophone. They include:\n\nEric Tabaka\, trombone. He is a junior from Monroe\, Wis.\, majoring in instrumental music education.\n\nJoel Padgett and Grayson Dixon\, piano. Padgett is a sophomore from Indianapolis majoring in geology and music composition. Dixon is a junior from Bailey\, Colo.\, majoring in instrumental music performance.\n\nTanner Logan\, double bass. Logan is a senior from Moline\, Ill.\, majoring in biology.\n\nJoshua Iyer\, violin. He is a senior from Aurora\, Ill.\, majoring in music composition.\n\nSarah Lisak and Becky Bieber\, flute.&nbsp\;Lisak is a junior from Frankfort\, Ill.\, majoring in environmental studies and biology. Bieber is a junior from Lake Zurich\, Ill.\, majoring in neuroscience and pre-medicine.\n\nKate Pisarczyk\, soprano saxophone. She is a senior from Spring Valley\, Ill.\,&nbsp\;majoring in music and psychology.\n\nKendall Hengst\, alto saxophone. He is a junior from Bettendorf\, Iowa\, majoring in instrumental music education.\n\nMegan Gabler\, tenor saxophone. She is a junior from Gurnee\, Ill.\, majoring in English education\, middle grades education and English.\n\nMelissa Hagerty\, bariton saxophone. She is a junior from Rock Island majoring in anthropology.\n\nProgram\n\n\n	\n		\n			\n			Cavatine \n			Allegro\n			Andantino\n			Allegro\n\n			Eric Tabaka\, trombone\n			Sheila Doak\, piano\n			\n			&nbsp\;\n			Saint-Saens (1835-1921)\n		\n		\n			\n			Prelude-La Colombe \n\n			Joel Padgett\, piano\n			\n			&nbsp\;\n			Olivier Messiaen (1908-1992)\n		\n		\n			\n			Ballade\, L. 70 (1890) \n\n			Grayson Dixon\, piano\n			\n			&nbsp\;\n			Claude Debussey (1862-1918)\n		\n		\n			\n			Sonatina\n\n			Tanner Logan\, double bass\n			Mary Neil\, piano\n			\n			&nbsp\;\n			Ludwig van Beethoven (1770-1827)\n		\n		\n			\n			Sonata No. 2 for violin and piano \n			II. Blues. Moderato\n\n			Joshua Iyer\, violin\n			Mary Neil\, piano\n			\n			&nbsp\;\n			Maurice Ravel (1875-1937)\n		\n		\n			\n			Andante and Rondo \n\n			Sarah Lisak\, flute\n			Becky Bieber\, flute\n			Gail Baldwin\, piano\n			\n			&nbsp\;\n			Franz Doppler (1821-1883)\n		\n		\n			\n			Variations pour quatuor de saxophones Thème \n			V. Vif\n			VI. Andante dramatico\n			VII. Tranquillo\n			VIII. Presto\n\n			Kate Pisarczyk\, soprano saxophone\n			Kendall Hengst\, alto saxophone\n			Megan Gabler\, tenor saxophone\n			Melissa Hagerty\, bariton saxophone\n			\n			&nbsp\;\n			Pierre Max Dubois (1930-1995)\n		\n	\n\n
URL;VALUE=URI:https://augustana.edu/about-us/events/2017/instrumental-student-recital
SUMMARY:Instrumental Student Recital
DTSTART:20180509T003000Z
END:VEVENT
END:VCALENDAR
