BEGIN:VCALENDAR
VERSION:2.0
PRODID:-//hacksw/handcal//NONSGML v1.0//EN
CALSCALE:GREGORIAN
BEGIN:VEVENT
DTEND:20170829T213000Z
UID: 69eabb4fad87d
DTSTAMP:20260423T193735Z
LOCATION:Old Main 
DESCRIPTION:Ekklesia is an ecumenical\, scholarship-based Greek New Testament reading group. All are welcome to participate in Old Main 135 each Tuesday at 4:30 p.m.\n\nThe group will start with the Epistle of James at today's first meeting of the school year.\n\nGreek fluency not required!\n
URL;VALUE=URI:https://augustana.edu/about-us/events/2017/ekklesia
SUMMARY:Ekklesia 
DTSTART:20170829T213000Z
END:VEVENT
END:VCALENDAR
