BEGIN:VCALENDAR
VERSION:2.0
PRODID:-//hacksw/handcal//NONSGML v1.0//EN
CALSCALE:GREGORIAN
BEGIN:VEVENT
DTEND:20170913T000000Z
UID: 69eabce59f81e
DTSTAMP:20260423T194421Z
LOCATION:Old Main 
DESCRIPTION:Join Unabridged for a fun evening of cocoa and crafts. The group will make buttons to decorate backpacks and jackets with themes to delight&nbsp\; English majors\, creative writers\, and literature nerds of all stripes (e.g. "Team Edward Rochester"\, "I Party with Jay Gatsby"\, and more.\n\nUnabridged on Facebook\n
URL;VALUE=URI:https://augustana.edu/about-us/events/2017/unabridged-button-night
SUMMARY:Unabridged button night
DTSTART:20170913T000000Z
END:VEVENT
END:VCALENDAR
