BEGIN:VCALENDAR
VERSION:2.0
PRODID:-//hacksw/handcal//NONSGML v1.0//EN
CALSCALE:GREGORIAN
BEGIN:VEVENT
DTEND:20170924T010000Z
UID: 69e7ad26531fe
DTSTAMP:20260421T120022Z
LOCATION:Centennial Hall
DESCRIPTION:"Extraordinist" Craig Karges combines the art of magic with the science of psychology and the power of intuition to create the impression that nothing is impossible.\n\nHe is an award-winning entertainer\, a nationally recognized speaker and an author who&nbsp\;has made more than 5\,000 appearances in 22 countries and in all 50 states.\n\n&nbsp\;Tables float\, minds are read\, metal bends and the imagination is challenged.&nbsp\;\n
URL;VALUE=URI:https://augustana.edu/about-us/events/2017/extraordinist-craig-karges
SUMMARY:"Extraordinist" Craig Karges
DTSTART:20170924T010000Z
END:VEVENT
END:VCALENDAR
