BEGIN:VCALENDAR
VERSION:2.0
PRODID:-//hacksw/handcal//NONSGML v1.0//EN
CALSCALE:GREGORIAN
BEGIN:VEVENT
DTEND:20170912T153000Z
UID: 69e76c97a6470
DTSTAMP:20260421T072455Z
LOCATION:Old Main 
DESCRIPTION:Students are invited to learn about the spring Learning Community in Greece. Applications still are being accepted.\n\nThis program consists of a 3-credit spring term Classics course in ancient Greek culture paired with a 1-credit art history course on Greek art\, followed by a two-week summer study trip to Greece. Students will visit sites throughout the Greek mainland and islands to explore the ancient world as they travel through the modern.\n
URL;VALUE=URI:https://augustana.edu/about-us/events/2017/greece-study-abroad-info-meeting
SUMMARY:Greece Study Abroad Info Meeting
DTSTART:20170912T153000Z
END:VEVENT
END:VCALENDAR
