BEGIN:VCALENDAR
VERSION:2.0
PRODID:-//hacksw/handcal//NONSGML v1.0//EN
CALSCALE:GREGORIAN
BEGIN:VEVENT
DTEND:20171020T003000Z
UID: 69e8257b9f9b1
DTSTAMP:20260421T203347Z
LOCATION:John Deere Planetarium and Carl Gamble Observatory
DESCRIPTION:Dr. Gayle E. Woloschak\, professor of radiation oncology and radiology at the Feinberg School of Medicine at Northwestern University\, will address ethical issues related to gene editing.&nbsp\;\n\nDr. Woloschak’s research is focused on radiobiology and bionanotechnology. She is affiliated with the Center for Genetic Medicine\, the Skin Disease Research Center\, and the Robert H. Lurie Comprehensive Cancer Center\, all at Northwestern University.\n\nAn active member of the Ukrainian Orthodox Church\, she has served on numerous church boards and commissions. She is the associate director of the Zygon Center for Religion and Science.\n\nHer talk is sponsored by the Augustana Center for the Study of Ethics and the Augustana Institute for Leadership and Service.\n
URL;VALUE=URI:https://augustana.edu/about-us/events/2017/ethics-gene-editing
SUMMARY:The Ethics of Gene Editing
DTSTART:20171020T003000Z
END:VEVENT
END:VCALENDAR
