BEGIN:VCALENDAR
VERSION:2.0
PRODID:-//hacksw/handcal//NONSGML v1.0//EN
CALSCALE:GREGORIAN
BEGIN:VEVENT
DTEND:20171021T140000Z
UID: 69e825ae6940c
DTSTAMP:20260421T203438Z
LOCATION:Carver P.E. Center
DESCRIPTION:You will get an overview of the admissions process and academics\, and tour campus with a current student. Events run from 9 a.m.-2 p.m.\n\n\n	Opportunities Fair\n	Academic session\n	Admissions and scholarship overview (meet your admissions counselor)\n	Campus tour and lunch\n	Wrap-up with Admissions\n\n\nFor more information\, sign-up\, or more visit day options\,&nbsp\;visit the website.\n
URL;VALUE=URI:https://augustana.edu/about-us/events/2017/fall-visit-day
SUMMARY:Fall Visit Day
DTSTART:20171021T140000Z
END:VEVENT
END:VCALENDAR
