BEGIN:VCALENDAR
VERSION:2.0
PRODID:-//hacksw/handcal//NONSGML v1.0//EN
CALSCALE:GREGORIAN
BEGIN:VEVENT
DTEND:20171009T143000Z
UID: 69e825759c002
DTSTAMP:20260421T203341Z
LOCATION:The Gerber Center for Student Life
DESCRIPTION:This event&nbsp\;will showcase Augustana's innovative approach to career preparation\, residential and student life.\n\n\n	The&nbsp\;Viking Score checklist&nbsp\;- a roadmap to successful career search a distinct focus on employability and grad school placement\n	Our unique housing transition from residence halls to on-campus apartments to off-campus living\n	Nationally acclaimed international experiences on all seven continents\n\n\nVisiting students will have the opportunity to complete an admissions interview. Interviews are encouraged for all students who have applied or plan to apply to Augustana and will be scheduled from 1-4 p.m.\n\nFor more information\, sign-up\, or more visit day options\,&nbsp\;visit the website.\n
URL;VALUE=URI:https://augustana.edu/about-us/events/2017/fall-visit-day-0
SUMMARY:Fall Visit Day
DTSTART:20171009T143000Z
END:VEVENT
END:VCALENDAR
