BEGIN:VCALENDAR
VERSION:2.0
PRODID:-//hacksw/handcal//NONSGML v1.0//EN
CALSCALE:GREGORIAN
BEGIN:VEVENT
DTEND:20171118T150000Z
UID: 69e82c23c163f
DTSTAMP:20260421T210211Z
LOCATION:Carver P.E. Center
DESCRIPTION:High school seniors may participate in one of two&nbsp\;the academic Departmental Open House and Scholarship Competitions on Nov. 18\, 2017\, and Jan. 13\, 2018.\n\nMore than 30 academic departments from 90 majors and other programs will be your hosts as you find out about your chosen program and compete for your share of more than $500\,000 in departmental scholarships. Scholarship winners are awarded $4\,000 ($1\,000/year for four years).\n\nHere's an idea of what to expect during the competition:\n\n\n	Students interested in geology perform a dramatic geologic experiment.\n	Future journalists gather clues and report on a crime.\n	Artists present a portfolio of their work.\n	Still thinking of a major? You will have plenty of company in this essay competition and group workshop.\n\n\nFor more information and a schedule\, visit the website.\n
URL;VALUE=URI:https://augustana.edu/about-us/events/2017/departmental-open-house-and-scholarship-competition
SUMMARY:Departmental Open House and Scholarship Competition
DTSTART:20171118T150000Z
END:VEVENT
END:VCALENDAR
