BEGIN:VCALENDAR
VERSION:2.0
PRODID:-//hacksw/handcal//NONSGML v1.0//EN
CALSCALE:GREGORIAN
BEGIN:VEVENT
DTEND:20180329T133000Z
UID: 69e825bdbfde8
DTSTAMP:20260421T203453Z
LOCATION:Centennial Hall
DESCRIPTION:High school sophomores and juniors&nbsp\;are invited to&nbsp\;Spring Preview Day. Events will run from 8:30 a.m.-2 p.m.\n\nLearn about distinctions and opportunities at Augustana through sample classes\, a tour of campus\, a presentation about the value of an Augie education and our specific application process.\n\nYou'll also learn some valuable tips about the college search process when you choose a session about writing college essays or preparing for admissions interviews.\n\n•&nbsp\;See more information and register\n\nSpring Preview Day&nbsp\;will be repeated April 6.\n
URL;VALUE=URI:https://augustana.edu/about-us/events/2017/spring-preview-day-0
SUMMARY:Spring Preview Day
DTSTART:20180329T133000Z
END:VEVENT
END:VCALENDAR
