BEGIN:VCALENDAR
VERSION:2.0
PRODID:-//hacksw/handcal//NONSGML v1.0//EN
CALSCALE:GREGORIAN
BEGIN:VEVENT
DTEND:20180201T170000Z
UID: 69e76c7e2b523
DTSTAMP:20260421T072430Z
LOCATION:The Gerber Center for Student Life
DESCRIPTION:Augustana's Global Engagement Team&nbsp\;Educational Programming Committee&nbsp\;will host an Internationali-T.E.A. on the topic of "Social Media as an Influencer."\n\nDr. Fanbin Zeng\, a Fulbright scholar from China\, will join&nbsp\;the discussion. Dr. Zeng is studying the relationship between social media and citizen participation in the U.S.\n\nThe following questions will be discussed: How are people accessing social media and news? How does social media affect generations\, and what kind of changes will we see in the future generations?\n\nTea and light refreshments will be provided.\n\nDr. Zeng is an associate professor in the College of Journalism and Communication at Jinan University in Guangzhou\, China. Since 2004\, he has worked as a teacher and researcher in China\, specializing in the research of new media and political communication.&nbsp\;\n
URL;VALUE=URI:https://augustana.edu/about-us/events/2017/internationali-tea-social-media-influencer
SUMMARY:Internationali-T.E.A: Social Media as an Influencer
DTSTART:20180201T170000Z
END:VEVENT
END:VCALENDAR
