BEGIN:VCALENDAR
VERSION:2.0
PRODID:-//hacksw/handcal//NONSGML v1.0//EN
CALSCALE:GREGORIAN
BEGIN:VEVENT
DTEND:20171007T210000Z
UID: 69e76cadc2f80
DTSTAMP:20260421T072517Z
LOCATION:Lower Quad
DESCRIPTION:A Night Market will be held from 4-6pm in collaboration with the Vietnamese Student Association\, the Asian Student Association\, the African Student Association\, the Black Student Union\, Latinx Unidos\, the Muslim Student Association\, and the Augustana Local Agriculture Society.&nbsp\;\n\nThere will be free\, authentic food from around the world\, limited merchandise\, games with prizes\, performances\, and more. (Cash and Venmo payments will be accepted for the merchandise).\n\n[The Greek group with the highest attendance will receive 20 Greek Week points]\n
URL;VALUE=URI:https://augustana.edu/about-us/events/2017/night-market
SUMMARY:Night Market
DTSTART:20171007T210000Z
END:VEVENT
END:VCALENDAR
