BEGIN:VCALENDAR
VERSION:2.0
PRODID:-//hacksw/handcal//NONSGML v1.0//EN
CALSCALE:GREGORIAN
BEGIN:VEVENT
DTEND:20180116T173000Z
UID: 69e89dc72c911
DTSTAMP:20260422T050703Z
LOCATION:Olin Center for Educational Technology
DESCRIPTION:This workshop is for students interested in study away to learn about funding options\, including scholarships\, grants and finance options relevant to Augustana programs.\n\nThe same workshop will also be held on Jan. 16 at the same time and location.\n\nSee the full list of CORE winter term workshops&nbsp\;here.&nbsp\;\n
URL;VALUE=URI:https://augustana.edu/about-us/events/2017/workshop-financing-your-study-away-0
SUMMARY:Workshop: Financing Your Study Away
DTSTART:20180116T173000Z
END:VEVENT
END:VCALENDAR
