BEGIN:VCALENDAR
VERSION:2.0
PRODID:-//hacksw/handcal//NONSGML v1.0//EN
CALSCALE:GREGORIAN
BEGIN:VEVENT
DTEND:20171028T013000Z
UID: 69e99a7fe3cff
DTSTAMP:20260422T230519Z
LOCATION:The Gerber Center for Student Life
DESCRIPTION:Damascus Road will be hosting a Story Slam: a story-telling competition interspersed with live music.&nbsp\;\n\nThe theme is "trick or treat" - prepare your true\, five-minute&nbsp\;story about your greatest moment of mischief\, the prank of which you are most proud. Your first sugary treat after a long diet\, an unexpected gift\, or a long-fought privilege earned. Or share a story about being tricked into accepting a treat.\n\nThe best story of the night (as voted by the audience) will walk away with a $25 Amazon card and the admiration of all.&nbsp\;\n
URL;VALUE=URI:https://augustana.edu/about-us/events/2017/story-slam
SUMMARY:Story Slam
DTSTART:20171028T013000Z
END:VEVENT
END:VCALENDAR
