BEGIN:VCALENDAR
VERSION:2.0
PRODID:-//hacksw/handcal//NONSGML v1.0//EN
CALSCALE:GREGORIAN
BEGIN:VEVENT
DTEND:20181005T204500Z
UID: 69e99a9ee54f8
DTSTAMP:20260422T230550Z
LOCATION:Lower Quad
DESCRIPTION:There will be a closing ceremony for the annual Clothesline Project\, which marks Domestic Violence Awareness Month.\n\nMembers of the campus community are invited to come together for a brief time of reflection near the Clothesline Project on the lower Quad at 3:45 p.m.&nbsp\;Together\, the group will take down the shirts that have been displayed on campus this week.\n\nThose who wish to are invited to come to the Forum on the second floor of Old Main afterwards for a time of conversation and support.\n
URL;VALUE=URI:https://augustana.edu/about-us/events/2018/clothesline-project-closing-ceremony
SUMMARY:Clothesline Project closing ceremony
DTSTART:20181005T204500Z
END:VEVENT
END:VCALENDAR
