BEGIN:VCALENDAR
VERSION:2.0
PRODID:-//hacksw/handcal//NONSGML v1.0//EN
CALSCALE:GREGORIAN
BEGIN:VEVENT
DTEND:20171201T230000Z
UID: 69e75ccf01abd
DTSTAMP:20260421T061735Z
LOCATION:Denkmann Memorial Building
DESCRIPTION:The Vietnamese Student Association will be hosting a street food night from 5-7pm\, which will include free food\, prizes\, exciting performances\, and more!\n
URL;VALUE=URI:https://augustana.edu/about-us/events/2017/vietnamese-street-food-night
SUMMARY:Vietnamese Street Food Night
DTSTART:20171201T230000Z
END:VEVENT
END:VCALENDAR
