BEGIN:VCALENDAR
VERSION:2.0
PRODID:-//hacksw/handcal//NONSGML v1.0//EN
CALSCALE:GREGORIAN
BEGIN:VEVENT
DTEND:20180630T003000Z
UID: 69ea2ecac9f41
DTSTAMP:20260423T093802Z
LOCATION:Brunner Theatre Center
DESCRIPTION:Mississippi Bend Players will present the musical "Big River\," based on the Mark Twain novel "Adventures of Huckleberry Finn\," with music and lyrics by Roger Miller.\n\nThe 1985 Broadway production ran for more than 1\,000 performances and it remained one of the few very successful American musicals in the mid-1980s (Wikipedia).\n\nThe&nbsp\;Mississippi Bend Players&nbsp\;is a new theatre company based in the Quad Cities whose mission is to provide excellence in the Quad Cities theatre by producing both commercially proven works and original musical and dramatic material. The group gives students and community members the opportunity to work together on professional stage productions.\n\nPerformance Schedule:&nbsp\;\n\nJune 29 - 7:30 p.m.\nJune 30 - 7:30 p.m.\nJuly 1 - 2 p.m.\n
URL;VALUE=URI:https://augustana.edu/about-us/events/2017/mississippi-bend-players-big-river-2
SUMMARY:Mississippi Bend Players: Big River
DTSTART:20180630T003000Z
END:VEVENT
END:VCALENDAR
