BEGIN:VCALENDAR
VERSION:2.0
PRODID:-//hacksw/handcal//NONSGML v1.0//EN
CALSCALE:GREGORIAN
BEGIN:VEVENT
DTEND:20171212T010000Z
UID: 69ea97b26963a
DTSTAMP:20260423T170538Z
LOCATION:Asian Pagoda House
DESCRIPTION:The Office of Multicultural Student Life will host a Hot Cocoa and Crafts reunion event.\n
URL;VALUE=URI:https://augustana.edu/about-us/events/2017/hot-cocoa-and-crafts-reunion
SUMMARY:Hot Cocoa and Crafts Reunion
DTSTART:20171212T010000Z
END:VEVENT
END:VCALENDAR
