BEGIN:VCALENDAR
VERSION:2.0
PRODID:-//hacksw/handcal//NONSGML v1.0//EN
CALSCALE:GREGORIAN
BEGIN:VEVENT
DTEND:20171214T010000Z
UID: 69ea97d4704f8
DTSTAMP:20260423T170612Z
LOCATION:
DESCRIPTION:The Phi Mu Alpha music fraternity will be performing a Christmas caroling concert in collaboration with the Residence Hall Association.\n\nThe concert will take place at 7pm in the Andreen Lounge and 8pm in Westerlin Lounge.&nbsp\;\n
URL;VALUE=URI:https://augustana.edu/about-us/events/2017/pma-christmas-caroling-concert
SUMMARY:PMA Christmas Caroling Concert
DTSTART:20171214T010000Z
END:VEVENT
END:VCALENDAR
