BEGIN:VCALENDAR
VERSION:2.0
PRODID:-//hacksw/handcal//NONSGML v1.0//EN
CALSCALE:GREGORIAN
BEGIN:VEVENT
DTEND:20180311T183000Z
UID: 69ea97889b51a
DTSTAMP:20260423T170456Z
LOCATION:Brunner Theatre Center
DESCRIPTION:"Circle Mirror Transformation" is a play&nbsp\;about adult drama classes at a community center in Vermont in which students reveal themselves.The play by Annie Baker&nbsp\;received the Obie Award for Best New American Play in 2010.\n\nPerformances will begin at 7:30 p.m. March 9 and 10\, and at 1:30 p.m. March 11.\n\nThe play will be produced by students in the THEA 350 play production class. This weekly student seminar group works under faculty supervision to produce an annual studio theatre production. Students collaborate on every aspect of the production process\, culminating in the public performance.&nbsp\;\n
URL;VALUE=URI:https://augustana.edu/about-us/events/2017/circle-mirror-transformation-1
SUMMARY:Circle Mirror Transformation
DTSTART:20180311T183000Z
END:VEVENT
END:VCALENDAR
