BEGIN:VCALENDAR
VERSION:2.0
PRODID:-//hacksw/handcal//NONSGML v1.0//EN
CALSCALE:GREGORIAN
BEGIN:VEVENT
DTEND:20211208T173000Z
UID: 69eac7080ebfc
DTSTAMP:20260423T202736Z
LOCATION:The Gerber Center for Student Life
DESCRIPTION:All faculty and staff are invited to a free holiday luncheon any time from&nbsp\;11:30 a.m.-1:30 p.m.&nbsp\;Be sure to bring ID.\n&nbsp\;\n
URL;VALUE=URI:https://augustana.edu/about-us/events/2021/holiday-luncheon-employees
SUMMARY:Holiday luncheon for employees
DTSTART:20211208T173000Z
END:VEVENT
END:VCALENDAR
