BEGIN:VCALENDAR
VERSION:2.0
PRODID:-//hacksw/handcal//NONSGML v1.0//EN
CALSCALE:GREGORIAN
BEGIN:VEVENT
DTEND:20180310T170000Z
UID: 69e7bde7b16ac
DTSTAMP:20260421T131151Z
LOCATION:Olin Center for Educational Technology
DESCRIPTION:The 13th annual Environmental Film Fest will show a selection of short films and three full-length features\, including "An Inconvenient Sequel: Truth to Power" with former Vice President Al Gore. See list of films to be shown here.\n\nAdmission is free. Doors open at&nbsp\;10:30 a.m.&nbsp\;in the Olin Center. Films will be shown from&nbsp\;11 a.m.-5 p.m.\n\nHealthy snacks and drinks will be provided. There will be inspirational 5-minute short films before the feature films.\n\nOlin Center is in the campus Quad. Parking is available along 38th Street and 7th Avenue and in visitor lots on campus.\n\nThe Environmental Film Fest is sponsored by the Eagle View Group of the Sierra Club\, Augustana College and Radish Magazine.\n
URL;VALUE=URI:https://augustana.edu/about-us/events/2018/environmental-film-fest
SUMMARY:Environmental Film Fest
DTSTART:20180310T170000Z
END:VEVENT
END:VCALENDAR
