BEGIN:VCALENDAR
VERSION:2.0
PRODID:-//hacksw/handcal//NONSGML v1.0//EN
CALSCALE:GREGORIAN
BEGIN:VEVENT
DTEND:20180203T000000Z
UID: 69e796ea95776
DTSTAMP:20260421T102530Z
LOCATION:Carver P.E. Center
DESCRIPTION:The OSL will be hosting a sumo suit challenge where participants can challenge their closest friends in a sumo battle.&nbsp\;There will also be a hotdog eating contest.\n\nThere will be free hotdogs even if you don't participate\, and The first 100 people to arrive will receive&nbsp\;a free&nbsp\;T-Shirt. Then\, check out the Augie Wrestling team for their match at&nbsp\;7:30\, where winners of the sumo contest will compete at halftime!\n
URL;VALUE=URI:https://augustana.edu/about-us/events/2018/sumo-wrestling-mania
SUMMARY:Sumo Wrestling Mania
DTSTART:20180203T000000Z
END:VEVENT
END:VCALENDAR
