BEGIN:VCALENDAR
VERSION:2.0
PRODID:-//hacksw/handcal//NONSGML v1.0//EN
CALSCALE:GREGORIAN
BEGIN:VEVENT
DTEND:20180211T013000Z
UID: 69e9eb69e9615
DTSTAMP:20260423T045033Z
LOCATION:QC Theatre Workshop
DESCRIPTION:"Eddy's Girls\," a play by Emma Brutman '17\, will be staged during the Susan Glaspell Playwriting Festival. The play was a finalist in the Local Adult Category.\n\nBrutman's play "The Lilith Play" won the category in 2017.&nbsp\;\n\nSix winners and finalists will be presented&nbsp\;Feb. 9-10:\n\nFeb. 9\, 7:30 p.m.\nAlone by Alexander Richardson\nThrough the Fence by Jason Platt\nRigid Image by Roger Pavey Jr.\n\nFeb. 10 \, 7:30 p.m.\nEddy's Girls by Emma Brutman\nIn the Buff by Coco Mault and Max Sparber\nI Await the Devil's Coming by Dierdre Girard\n
URL;VALUE=URI:https://augustana.edu/about-us/events/2018/susan-glaspell-playwriting-festival
SUMMARY:Susan Glaspell Playwriting Festival
DTSTART:20180211T013000Z
END:VEVENT
END:VCALENDAR
