BEGIN:VCALENDAR
VERSION:2.0
PRODID:-//hacksw/handcal//NONSGML v1.0//EN
CALSCALE:GREGORIAN
BEGIN:VEVENT
DTEND:20180204T003000Z
UID: 69e67dbc9818e
DTSTAMP:20260420T142548Z
LOCATION:Lower Quad
DESCRIPTION:Take Care of All of Us: Bringing Survivors' Voices into the Light is an event&nbsp\;held to bring awareness to sexual assault. This is a&nbsp\;chance for the Augustana and Quad City community to unite and provide support for survivors.\n\nThe group will meet at 6:30 p.m.&nbsp\; in the lower Quad by the library stairs and then&nbsp\;walk to the Quad City Botanical Center in silence with candles.\n\nFrom 8-10 p.m.\, there will be speakers from +Impact and Safe Path\, along with&nbsp\;survivor stories. After this\, anyone who would like to stay and talk is encouraged to do so.\n\nThose who wish to share their stories should contact Natalie Trujillo\, president and founder of +Impact. In order to prepare for the event and time allotted to each speaker\, please email her no later than 2 p.m. Friday.\n
URL;VALUE=URI:https://augustana.edu/about-us/events/2018/take-care-all-us-bringing-survivors-voices-light
SUMMARY:Take Care of All of Us: Bringing Survivors' Voices into the Light
DTSTART:20180204T003000Z
END:VEVENT
END:VCALENDAR
