BEGIN:VCALENDAR
VERSION:2.0
PRODID:-//hacksw/handcal//NONSGML v1.0//EN
CALSCALE:GREGORIAN
BEGIN:VEVENT
DTEND:20180422T230000Z
UID: 69eadf9008e41
DTSTAMP:20260423T221216Z
LOCATION:Bahls Campus Leadership Center
DESCRIPTION:The Augustana Handbell Choir will combine with the Augustana Chamber Singers&nbsp\;in a performance.\n
URL;VALUE=URI:https://augustana.edu/about-us/events/2018/augustana-handbell-choir-and-chamber-singers-concert
SUMMARY:Augustana Handbell Choir and Chamber Singers Concert
DTSTART:20180422T230000Z
END:VEVENT
END:VCALENDAR
