BEGIN:VCALENDAR
VERSION:2.0
PRODID:-//hacksw/handcal//NONSGML v1.0//EN
CALSCALE:GREGORIAN
BEGIN:VEVENT
DTEND:20180328T003000Z
UID: 69e8c3a9a96b0
DTSTAMP:20260422T074841Z
LOCATION:Bahls Campus Leadership Center
DESCRIPTION:Catholic Ministries will host a Bible Study every Tuesday at 7:30p.m. during spring term.&nbsp\;\n\nCheck out this Bible Study to deepen your knowledge of the woman chosen and prepared by the Father to be the Mother of Jesus Christ. This is your opportunity to discover anew why Catholics have such a love and devotion for this lady of Nazareth.\n
URL;VALUE=URI:https://augustana.edu/about-us/events/2018/catholic-ministries-bible-and-virgin-mary-study-1
SUMMARY:Catholic Ministries: The Bible and the Virgin Mary Study
DTSTART:20180328T003000Z
END:VEVENT
END:VCALENDAR
