BEGIN:VCALENDAR
VERSION:2.0
PRODID:-//hacksw/handcal//NONSGML v1.0//EN
CALSCALE:GREGORIAN
BEGIN:VEVENT
DTEND:20180323T171500Z
UID: 69e8bdd32d68d
DTSTAMP:20260422T072347Z
LOCATION:Bahls Campus Leadership Center
DESCRIPTION:Catholic Ministries will be hosting "Stations of the Cross" every Friday during Lent.&nbsp\;\n\nA free soup and salad lunch will be available in the Founder's Basement afterwards.\n
URL;VALUE=URI:https://augustana.edu/about-us/events/2018/stations-cross-1
SUMMARY:Stations of the Cross
DTSTART:20180323T171500Z
END:VEVENT
END:VCALENDAR
