BEGIN:VCALENDAR
VERSION:2.0
PRODID:-//hacksw/handcal//NONSGML v1.0//EN
CALSCALE:GREGORIAN
BEGIN:VEVENT
DTEND:20180428T030000Z
UID: 69e79729bc621
DTSTAMP:20260421T102633Z
LOCATION:Olin Center for Educational Technology
DESCRIPTION:Jumanji will be shown.\n
URL;VALUE=URI:https://augustana.edu/about-us/events/2018/movie-jumanji-1
SUMMARY:Movie: Jumanji
DTSTART:20180428T030000Z
END:VEVENT
END:VCALENDAR
