BEGIN:VCALENDAR
VERSION:2.0
PRODID:-//hacksw/handcal//NONSGML v1.0//EN
CALSCALE:GREGORIAN
BEGIN:VEVENT
DTEND:20180510T020000Z
UID: 69e796ee1c30a
DTSTAMP:20260421T102534Z
LOCATION:Olin Center for Educational Technology
DESCRIPTION:Flatliners&nbsp\;will be shown.\n
URL;VALUE=URI:https://augustana.edu/about-us/events/2018/movie-flatliners
SUMMARY:Movie: Flatliners
DTSTART:20180510T020000Z
END:VEVENT
END:VCALENDAR
