BEGIN:VCALENDAR
VERSION:2.0
PRODID:-//hacksw/handcal//NONSGML v1.0//EN
CALSCALE:GREGORIAN
BEGIN:VEVENT
DTEND:20180414T000000Z
UID: 69e7ad25e280a
DTSTAMP:20260421T120021Z
LOCATION:Hanson Hall of Science
DESCRIPTION:Augustana will present its first&nbsp\;Scandinavian Film Fest April 12-14\, sponsored by the Marianne and Marcus Wallenberg Foundation and the Swenson Swedish Immigration Center&nbsp\;Research.\n\nThe films are free and open to the public. Screenings will take place at 7 p.m. in room 304\, Hanson Hall. Films are in Swedish with English subtitles.\n\n"We are the Best" IMDB description: Three girls in 1980s Stockholm decide to form a punk band — despite not having any instruments and being told by everyone that punk is dead.\n\nThe unrated film runs one hour\, 42&nbsp\;minutes.\n\nFilms\n\n"Dead Snow" April 12\n"We are the Best" April 13\n"The Square" April 14\n
URL;VALUE=URI:https://augustana.edu/about-us/events/2018/scandinavian-film-fest-we-are-best
SUMMARY:Scandinavian Film Fest: "We are the Best"
DTSTART:20180414T000000Z
END:VEVENT
END:VCALENDAR
