BEGIN:VCALENDAR
VERSION:2.0
PRODID:-//hacksw/handcal//NONSGML v1.0//EN
CALSCALE:GREGORIAN
BEGIN:VEVENT
DTEND:20180415T000000Z
UID: 69e7ad8cdd797
DTSTAMP:20260421T120204Z
LOCATION:Hanson Hall of Science
DESCRIPTION:Augustana will present its first&nbsp\;Scandinavian Film Fest&nbsp\;April 12-14\, sponsored by the Marianne and Marcus Wallenberg Foundation and the Swenson Swedish Immigration Center&nbsp\;Research.\n\nThe films are free and open to the public. Screenings will take place at 7 p.m. in room 304\, Hanson Hall. Films are in Swedish with English subtitles.\n\n"The Square" IMDB description:&nbsp\;A prestigious Stockholm museum's chief art curator finds himself in times of both professional and personal crisis as he attempts to set up a controversial new exhibit.\n\nThe film is rated R and runs 2 hours\, 22 minutes.\n\nFilms\n\n"Dead Snow" April 12\n"We are the Best" April 13\n"The Square" April 14\n
URL;VALUE=URI:https://augustana.edu/about-us/events/2018/scandinavian-film-fest-square
SUMMARY:Scandinavian Film Fest: "The Square"
DTSTART:20180415T000000Z
END:VEVENT
END:VCALENDAR
