BEGIN:VCALENDAR
VERSION:2.0
PRODID:-//hacksw/handcal//NONSGML v1.0//EN
CALSCALE:GREGORIAN
BEGIN:VEVENT
DTEND:20180414T190000Z
UID: 69e735a3f139c
DTSTAMP:20260421T033027Z
LOCATION:Denkmann Memorial Building
DESCRIPTION:Senior Joshua Morano will perform a trombone recital. He is from Sugar Grove\, Ill.\, majoring in psychology and music.\n\nProgram:\n\n\n	\n		\n			Improvisation Nr. 1 für Posaune Solo\n			Enrique Crespo (b. 1941)\n		\n		\n			Don Quichotte&nbsp\;à Dulcinée\n			I. Chanson romanesque\n			II. Chanson épique\n			III. Chanson à boire\n			Charles Schmidt\, piano\n			Maurice Ravel (1875-1937)\n		\n		\n			Chaconne from partida in d minor\, BMV1005\n			Johann Sebastian Bach\n		\n		\n			Intermission\n			&nbsp\;\n		\n		\n			Sonatine\, pour Trombone et Piano\n			I. Allegro Vivo\n			II. Andante Sostenuto\n			III. Allegro\n			Charles Schmidt\, piano\n			Jacques&nbsp\;Castérède (1926-2014)\n		\n		\n			The Blue Bells of Scotland\n			Charles Schmidt\, piano\n			Arthur Pryor (1869-1942)\n		\n	\n\n\n&nbsp\;\n
URL;VALUE=URI:https://augustana.edu/about-us/events/2018/student-recital-joshua-morano-trombone
SUMMARY: Student recital: Joshua Morano\, trombone
DTSTART:20180414T190000Z
END:VEVENT
END:VCALENDAR
